BEGIN:VCALENDAR
VERSION:2.0
PRODID:-//Stats Camp Statistics Course - ECPv6.15.20//NONSGML v1.0//EN
CALSCALE:GREGORIAN
METHOD:PUBLISH
X-WR-CALNAME:Stats Camp Statistics Course
X-ORIGINAL-URL:https://www.statscamp.org
X-WR-CALDESC:Events for Stats Camp Statistics Course
REFRESH-INTERVAL;VALUE=DURATION:PT1H
X-Robots-Tag:noindex
X-PUBLISHED-TTL:PT1H
BEGIN:VTIMEZONE
TZID:America/Chicago
BEGIN:DAYLIGHT
TZOFFSETFROM:-0600
TZOFFSETTO:-0500
TZNAME:CDT
DTSTART:20240310T080000
END:DAYLIGHT
BEGIN:STANDARD
TZOFFSETFROM:-0500
TZOFFSETTO:-0600
TZNAME:CST
DTSTART:20241103T070000
END:STANDARD
BEGIN:DAYLIGHT
TZOFFSETFROM:-0600
TZOFFSETTO:-0500
TZNAME:CDT
DTSTART:20250309T080000
END:DAYLIGHT
BEGIN:STANDARD
TZOFFSETFROM:-0500
TZOFFSETTO:-0600
TZNAME:CST
DTSTART:20251102T070000
END:STANDARD
BEGIN:DAYLIGHT
TZOFFSETFROM:-0600
TZOFFSETTO:-0500
TZNAME:CDT
DTSTART:20260308T080000
END:DAYLIGHT
BEGIN:STANDARD
TZOFFSETFROM:-0500
TZOFFSETTO:-0600
TZNAME:CST
DTSTART:20261101T070000
END:STANDARD
END:VTIMEZONE
BEGIN:VEVENT
DTSTART;TZID=America/Chicago:20250228T170000
DTEND;TZID=America/Chicago:20250303T210000
DTSTAMP:20260419T162215
CREATED:20241114T001036Z
LAST-MODIFIED:20250220T173235Z
UID:9530-1740762000-1741035600@www.statscamp.org
SUMMARY:The Craft of Structural Equation Modeling an In-depth & Comprehensive Livestream Workshop
DESCRIPTION:🚨 Course Rescheduled: New Dates Announced! 🚨 \nDue to unforeseen circumstances\, The Craft of Structural Equation Modeling Livestream Workshop has been rescheduled to February 28 – March 3\, 2025 from 5:00 PM – 9:00 PM CST each day. \nWe appreciate your understanding and look forward to seeing you in class soon! If you have any questions\, please contact us. \n\nLIVESTREAM / ASYNCHRONOUS – 4-day Statistics Short Course\, 4hrs per day\nDOWNLOAD SAMPLE COURSE SLIDES AND WATCH COURSE VIDEO PREVIEW\n  \nIf you have any questions about this course\, we are here to help. Please contact us for more information. \nStructural Equation Modeling Mastery: An In-Depth Training in Quantitative Methods\n\nReady to elevate your measurement game to the latent level? Look no further – you’ve discovered the essential foundation for mastering latent variable modeling: Structural Equation Modeling (SEM)! Many participants have shared that their previous training fell short or was outdated. Join us as we not only introduce you to the latest SEM techniques but also guide you through the precise steps to ‘craft’ a sophisticated SEM model. Upgrade your skills and stay ahead of the curve in this transformative learning experience! \nSyllabus: February 28 – March 3\, 2025 from 5pm – 9pm CST each day\n\n\n\nDay 1\n\n\n\n5:00 – 6:15\nWelcome and Introductions. Philosophy\n\n\n6:15 – 6:30\nSnack and Refreshment Break\n\n\n6:30 – 8:00\nPsychometrics; Defining Constructs\n\n\nDay 2\n\n\n\n5:00 – 6:15\nIdentification & Scale Setting\n\n\n6:15 – 6:30\nSnack and Refreshment Break\n\n\n6:30 – 8:00\nConfirmatory Factor Analysis I – Introduction to CFA\n\n\n8:00 – 9:00\nConfirmatory Factor Analysis II – Comparing Models\, Model Fit\n\n\nDay 3\n\n\n\n5:00 – 6:15\nMultiple-Group CFA – Testing for Invariance\n\n\n6:15 – 6:30\nSnack and Refreshment Break\n\n\n6:30 – 8:00\nMultiple-Group CFA – Tests and Comparing Latent Parameters\n\n\n8:00 – 9:00\nParcels and Parceling; Missing Data & Power\n\n\nDay 4\n\n\n\n5:00 – 6:15\nMultiple-Group SEM\n\n\n6:15 – 6:30\nSnack and Refreshment Break\n\n\n6:30 – 8:00\nCatch up and Discussion\n\n\n8:00 – 9:00\nFinal Review and Q&A\n\n\n\n  \n\nCourse Topics:\n\n\nAdvantages and disadvantages of SEM\, Latent vs measured variables\, Modeling with constructs\, Figural conventions\, Manifest vs latent test theory\, Selecting indicators\, Setting the scale\, Model fit indices\, Parceling\, Invariance testing\, Latent parameter testing\, Phantom constructs\, Sample size and power\, Missing data.\n\n\nCourse Description:\nEmbark on a comprehensive journey with our 5-day short course delving into SEM Foundations & Extended Applications. Immerse yourself in an intensive exploration of the principles of structural equation modeling (SEM) with expert instructors Dr. Little and Dr. Stickley. \n\nInstructor: Todd D. Little\, Ph.D.\n \nTodd D. Little\, Ph.D. is a Professor of Educational Psychology at Texas Tech University (TTU). Little is internationally recognized for his quantitative work on various aspects of applied SEM (e.g.\, indicator selection\, parceling\, modeling developmental processes) as well as his substantive developmental research (e.g.\, action-control processes and motivation\, coping\, and self-regulation). Prior to joining TTU\, …  Little has guided quantitative training and provided consultation to students\, staff\, and faculty at the Max Planck Institute for Human Development’s Center for Lifespan Studies (1991-1998)\, Yale University’s Department of Psychology (1998-2002)\, and researchers at KU (2002-2013\, including as director of the RDA unit at the Lifespan Institute and as director of the Center for Research Methods and Data Analysis). In 2001\, Little was elected to membership in the Society for Multivariate Experimental Psychology\, a restricted-membership society of quantitative specialists in the behavioral and social sciences.\n \nIn 2009\, he was elected President of APA’s Division 5 (Evaluation\, Measurement\, and Statistics). He founded\, organizes\, and teaches in the internationally renowned ‘Stats Camps’ each June (see statscamp.org for details of the summer training programs) and has given over 150 workshops and talks on methodology topics around the world. As an interdisciplinary-oriented collaborator\, Little has published with over 280 persons from around the world in over 65 different peer-reviewed journals. His work has garnered over 11\,000 citations. He published Longitudinal Structural Equation Modeling in 2013 and he has edited five books related to methodology\, including the Oxford Handbook of Quantitative Methods and the Guildford Handbook of Developmental Research Methods (with Brett Laursen and Noel Card). Little has served on numerous grant review panels for federal agencies such as NSF\, NIH\, and IES\, and private foundations such as the Jacobs Foundation. He has been the principal investigator or co-principal investigator on over 15 grants and contracts and he has served as a statistical consultant on over 70 grants and contracts. In the conduct of his collaborative research\, he has participated in the development of over 12 different measurement tools\, including the CAMI\, the Multi-CAM\, the BALES\, the BISC\, the I FEEL\, and the form/function decomposition of aggression. \n\n\n\nInstructor: Zachary Stickley\, Ph.D.\n \nZachary\, Ph.D. is a senior research scientist at Yhat Enterprises LLC. where he pursues his research interests in measurement design\, applied latent variable modeling\, and modern approaches to missing data. Dr. Stickley has also served as an instructor and coordinator for the Stats Camp Foundation since first joining the team as a graduate student in 2018. He received his Ph.D. in Educational Psychology from College of Education at Texas Tech University with a focus on research methodology\, measurement design\, and statistical modeling. He received his Master of Education degree from Texas Tech University and his Bachelor of Science in Psychology from Tarleton State University. \nRead More\n\n\nAPA Continuing Education Credits:\n \nThis course is NOT eligible for CE credits. You must attend a livestream or in-person event to qualify for APA continuing education credits. Please review our Summer Camp offerings for courses eligible for CE Credits. \n\nCourse Includes:\nMaterials\, downloads\, recorded course video viewable for up to one year. \n\n\nLearning Objectives\nLearning Objectives:\nThe 5 day training institute on Structural Equation Modeling (SEM Foundations) will enable participants to: \n\nDescribe the psychometric properties that underly Structural Equation Modeling (SEM).\nDefine a latent construct using manifest variables.\nIdentify a latent construct using numerous methods of identification\, including marker method\, fixed factor\, and effects coding.\nConduct confirmatory factor analysis (CFA) and evaluate model fit using several fit indices.\nCompare CFA models using several comparison metrics.\nGenerate and implement item parceling schemes.\nEvaluate multiple groups using the CFA framework using weak and strong invariance.\nTest and compare latent parameters in a multiple group framework.\nEvaluate and address missing data with both FIML and Multiple Imputation.\nImplement a planned missing data design.\nEvaluate mediation and moderation in an SEM framework.\nEvaluate multi-trait\, multi-method (MTMM) models.\nEvaluate hierarchical models.\n\nSeminar Audience\nCourse Audience:\nIf you need to analyze the covariance structure of multivariate data and have a basic statistical background\, this seminar is for you. You should have a good working knowledge of the principles and practice of multiple regression and elementary statistical inference. You do not need to know matrix algebra\, calculus\, or likelihood theory (although that knowledge would be beneficial). Participants from a variety of fields\, including sociology\, psychology\, education\, human development\, marketing\, business\, biology\, medicine\, political science\, and communication\, will benefit from the seminar. \nThe seminar will support LISREL\, Mplus or Laavan. Some assistance will be available for questions related to other structural modeling packages. No previous knowledge of LISREL\, Mplus or Laavan is assumed. Furthermore\, nearly all the techniques taught in the seminar can be translated fairly easily to most other packages. \nSeminar Files\nCourse Files\nBelow are links to seminar files for those who enrolled in the seminar. Please download these files onto your computer before the first day of the seminar. The files are password protected to respect the intellectual property rights of the instructors. By using your login information you agree not to share your login information or the content protected by it. \nAll statistical software used at Stats Camp will be available\, free to participants\, on our SMORS (statistical modeling on remote servers) system for the duration of camp.Download Sample Slides and Preview Course Video\nPlease fill out and submit the form below to get instant access to sample course materials.
URL:https://www.statscamp.org/courses/the-craft-of-sem-in-depth-and-comprehensive-training/
LOCATION:Livestream and/or Asynchronous:\, If you are unavailable to join live via Zoom\, you can participate asynchronously by viewing the recorded course videos for up to 1 year.
CATEGORIES:SEM Foundations & Extended Applications,Structural Equation Modeling (SEM) using R,The Craft of Structural Equation Modeling
ATTACH;FMTTYPE=image/jpeg:https://www.statscamp.org/wp-content/uploads/2022/07/sem-foundations-statistics-course.jpg
END:VEVENT
END:VCALENDAR